BEGIN:VCALENDAR
VERSION:2.0
PRODID:-//Photoclub Mittelrheintal - ECPv6.15.20//NONSGML v1.0//EN
CALSCALE:GREGORIAN
METHOD:PUBLISH
X-WR-CALNAME:Photoclub Mittelrheintal
X-ORIGINAL-URL:https://pcm-online.ch
X-WR-CALDESC:Veranstaltungen für Photoclub Mittelrheintal
REFRESH-INTERVAL;VALUE=DURATION:PT1H
X-Robots-Tag:noindex
X-PUBLISHED-TTL:PT1H
BEGIN:VTIMEZONE
TZID:Europe/Zurich
BEGIN:DAYLIGHT
TZOFFSETFROM:+0100
TZOFFSETTO:+0200
TZNAME:CEST
DTSTART:20240331T010000
END:DAYLIGHT
BEGIN:STANDARD
TZOFFSETFROM:+0200
TZOFFSETTO:+0100
TZNAME:CET
DTSTART:20241027T010000
END:STANDARD
BEGIN:DAYLIGHT
TZOFFSETFROM:+0100
TZOFFSETTO:+0200
TZNAME:CEST
DTSTART:20250330T010000
END:DAYLIGHT
BEGIN:STANDARD
TZOFFSETFROM:+0200
TZOFFSETTO:+0100
TZNAME:CET
DTSTART:20251026T010000
END:STANDARD
BEGIN:DAYLIGHT
TZOFFSETFROM:+0100
TZOFFSETTO:+0200
TZNAME:CEST
DTSTART:20260329T010000
END:DAYLIGHT
BEGIN:STANDARD
TZOFFSETFROM:+0200
TZOFFSETTO:+0100
TZNAME:CET
DTSTART:20261025T010000
END:STANDARD
END:VTIMEZONE
BEGIN:VEVENT
DTSTART;VALUE=DATE:20250901
DTEND;VALUE=DATE:20251001
DTSTAMP:20260421T011454
CREATED:20250412T160655Z
LAST-MODIFIED:20250921T121609Z
UID:10000068-1756684800-1759276799@pcm-online.ch
SUMMARY:Bilder im Schaukasten von Franz Südmeyer
DESCRIPTION:
URL:https://pcm-online.ch/event/bilder-im-schaukasten-von-franz-suedmeyer/
LOCATION:PCM Schaukasten\, Bahnhofstrasse 20\, Widnau\, SG\, 9443\, Schweiz
CATEGORIES:Schaukasten
ATTACH;FMTTYPE=image/jpeg:https://pcm-online.ch/wp-content/uploads/2025-09_IMG-20250901-WA0012.jpg
END:VEVENT
BEGIN:VEVENT
DTSTART;TZID=Europe/Zurich:20250911T193000
DTEND;TZID=Europe/Zurich:20250911T213000
DTSTAMP:20260421T011454
CREATED:20250412T210140Z
LAST-MODIFIED:20250412T210140Z
UID:10000079-1757619000-1757626200@pcm-online.ch
SUMMARY:Clubmeisterschaft 2025 - Teil 2 - Thema "Zeitzeugen"
DESCRIPTION:Jedes Aktivmitglied darf an diesem Abend mit einem Bild zum Thema „Zeitzeugen“ teilnehmen. Wann das Bild aufgenommen wurde\, spielt in diesem Fall keine Rolle. Wir sind gespannt auf die Beiträge der Clubmitglieder\, lässt dieses Thema doch einen breiten Interpretationsspielraum zu. \nAuf eine grosse Beteiligung im Saal des Restaurants Rosengarten freut sich der Vorstand.
URL:https://pcm-online.ch/event/clubmeisterschaft-2025-teil-2-thema-zeitzeugen/
LOCATION:Restaurant Rosengarten\, Unterdorfstrasse 79\, Widnau\, SG\, 9443\, Schweiz
CATEGORIES:Clubabend
ATTACH;FMTTYPE=image/jpeg:https://pcm-online.ch/wp-content/uploads/E2455708FR20091118.jpg
END:VEVENT
END:VCALENDAR