BEGIN:VCALENDAR
VERSION:2.0
PRODID:-//Photoclub Mittelrheintal - ECPv6.15.20//NONSGML v1.0//EN
CALSCALE:GREGORIAN
METHOD:PUBLISH
X-WR-CALNAME:Photoclub Mittelrheintal
X-ORIGINAL-URL:https://pcm-online.ch
X-WR-CALDESC:Veranstaltungen für Photoclub Mittelrheintal
REFRESH-INTERVAL;VALUE=DURATION:PT1H
X-Robots-Tag:noindex
X-PUBLISHED-TTL:PT1H
BEGIN:VTIMEZONE
TZID:Europe/Zurich
BEGIN:DAYLIGHT
TZOFFSETFROM:+0100
TZOFFSETTO:+0200
TZNAME:CEST
DTSTART:20250330T010000
END:DAYLIGHT
BEGIN:STANDARD
TZOFFSETFROM:+0200
TZOFFSETTO:+0100
TZNAME:CET
DTSTART:20251026T010000
END:STANDARD
BEGIN:DAYLIGHT
TZOFFSETFROM:+0100
TZOFFSETTO:+0200
TZNAME:CEST
DTSTART:20260329T010000
END:DAYLIGHT
BEGIN:STANDARD
TZOFFSETFROM:+0200
TZOFFSETTO:+0100
TZNAME:CET
DTSTART:20261025T010000
END:STANDARD
BEGIN:DAYLIGHT
TZOFFSETFROM:+0100
TZOFFSETTO:+0200
TZNAME:CEST
DTSTART:20270328T010000
END:DAYLIGHT
BEGIN:STANDARD
TZOFFSETFROM:+0200
TZOFFSETTO:+0100
TZNAME:CET
DTSTART:20271031T010000
END:STANDARD
END:VTIMEZONE
BEGIN:VEVENT
DTSTART;VALUE=DATE:20260201
DTEND;VALUE=DATE:20260301
DTSTAMP:20260419T145632
CREATED:20250412T162544Z
LAST-MODIFIED:20260206T125106Z
UID:10000073-1769904000-1772323199@pcm-online.ch
SUMMARY:Bilder im Schaukasten von Johannes Gächter
DESCRIPTION:
URL:https://pcm-online.ch/event/bilder-im-schaukasten-von-johannes-gaechter/
LOCATION:PCM Schaukasten\, Bahnhofstrasse 20\, Widnau\, SG\, 9443\, Schweiz
CATEGORIES:Schaukasten
ATTACH;FMTTYPE=image/jpeg:https://pcm-online.ch/wp-content/uploads/IMG-20260201-WA0001.jpg
END:VEVENT
BEGIN:VEVENT
DTSTART;TZID=Europe/Zurich:20260212T193000
DTEND;TZID=Europe/Zurich:20260212T213000
DTSTAMP:20260419T145632
CREATED:20251221T142051Z
LAST-MODIFIED:20260412T072357Z
UID:10000085-1770924600-1770931800@pcm-online.ch
SUMMARY:Clubmeisterschaft 2025 - Teil 4: Thema Gegensätze
DESCRIPTION:Im 4. und letzten Teil der Clubmeisterschaft 2025 wird das Jahresthema „Gegensätze“ bewertet. Jedes Aktivmitglied darf dazu 1 Bild einreichen\, welches dieses Thema beinhaltet. Dies soll geschehen\, sobald die entsprechende E-Mail zugestellt worden ist. \nWir sind gespannt auf die Umsetzung dieses Themas.
URL:https://pcm-online.ch/event/clubmeisterschaft-2025-teil-4-thema-gegensaetze/
LOCATION:Restaurant Rosengarten\, Unterdorfstrasse 79\, Widnau\, SG\, 9443\, Schweiz
ATTACH;FMTTYPE=image/jpeg:https://pcm-online.ch/wp-content/uploads/PfeileGegensaetze.jpg
END:VEVENT
END:VCALENDAR