BEGIN:VCALENDAR
VERSION:2.0
PRODID:-//Photoclub Mittelrheintal - ECPv6.15.20//NONSGML v1.0//EN
CALSCALE:GREGORIAN
METHOD:PUBLISH
X-WR-CALNAME:Photoclub Mittelrheintal
X-ORIGINAL-URL:https://pcm-online.ch
X-WR-CALDESC:Veranstaltungen für Photoclub Mittelrheintal
REFRESH-INTERVAL;VALUE=DURATION:PT1H
X-Robots-Tag:noindex
X-PUBLISHED-TTL:PT1H
BEGIN:VTIMEZONE
TZID:Europe/Zurich
BEGIN:DAYLIGHT
TZOFFSETFROM:+0100
TZOFFSETTO:+0200
TZNAME:CEST
DTSTART:20240331T010000
END:DAYLIGHT
BEGIN:STANDARD
TZOFFSETFROM:+0200
TZOFFSETTO:+0100
TZNAME:CET
DTSTART:20241027T010000
END:STANDARD
BEGIN:DAYLIGHT
TZOFFSETFROM:+0100
TZOFFSETTO:+0200
TZNAME:CEST
DTSTART:20250330T010000
END:DAYLIGHT
BEGIN:STANDARD
TZOFFSETFROM:+0200
TZOFFSETTO:+0100
TZNAME:CET
DTSTART:20251026T010000
END:STANDARD
BEGIN:DAYLIGHT
TZOFFSETFROM:+0100
TZOFFSETTO:+0200
TZNAME:CEST
DTSTART:20260329T010000
END:DAYLIGHT
BEGIN:STANDARD
TZOFFSETFROM:+0200
TZOFFSETTO:+0100
TZNAME:CET
DTSTART:20261025T010000
END:STANDARD
END:VTIMEZONE
BEGIN:VEVENT
DTSTART;VALUE=DATE:20251001
DTEND;VALUE=DATE:20251101
DTSTAMP:20260422T105814
CREATED:20250412T160838Z
LAST-MODIFIED:20251018T083923Z
UID:10000069-1759276800-1761955199@pcm-online.ch
SUMMARY:Bilder im Schaukasten von Fredy Roth
DESCRIPTION:
URL:https://pcm-online.ch/event/bilder-im-schaukasten-von-fredy-roth/
LOCATION:PCM Schaukasten\, Bahnhofstrasse 20\, Widnau\, SG\, 9443\, Schweiz
CATEGORIES:Schaukasten
ATTACH;FMTTYPE=image/jpeg:https://pcm-online.ch/wp-content/uploads/IMG-20250930-WA0014.jpg
END:VEVENT
BEGIN:VEVENT
DTSTART;TZID=Europe/Zurich:20251009T193000
DTEND;TZID=Europe/Zurich:20251009T213000
DTSTAMP:20260422T105814
CREATED:20250412T211430Z
LAST-MODIFIED:20250921T072625Z
UID:10000081-1760038200-1760045400@pcm-online.ch
SUMMARY:Geben wir den Bildern noch eine Chance
DESCRIPTION:Wir veredeln unsere Bilder oder versuchen\, einige mehr oder weniger „abverreckte“ Bilder zu retten… \nEs wird gezeigt\, welche Möglichkeiten bestehen\, Bilder zu optimieren\, welche auf den ersten Blick vielleicht gar für den elektronischen Papierkorb bestimmt waren. \nAnhand einiger Beispiele zeigen wir Euch\, dass es sich lohnen kann\, ein Bild nicht allzurasch zu löschen. \nAuf einen interessanten Abend freut sich \nder Vorstand \n  \n  \n 
URL:https://pcm-online.ch/event/save-the-date-clubabend-details-werden-noch-bekanntgegeben/
LOCATION:Restaurant Rosengarten\, Unterdorfstrasse 79\, Widnau\, SG\, 9443\, Schweiz
CATEGORIES:Clubabend
ATTACH;FMTTYPE=image/png:https://pcm-online.ch/wp-content/uploads/web_icon_pcm.png
END:VEVENT
END:VCALENDAR