BEGIN:VCALENDAR
VERSION:2.0
PRODID:-//Photoclub Mittelrheintal - ECPv6.15.20//NONSGML v1.0//EN
CALSCALE:GREGORIAN
METHOD:PUBLISH
X-ORIGINAL-URL:https://pcm-online.ch
X-WR-CALDESC:Veranstaltungen für Photoclub Mittelrheintal
REFRESH-INTERVAL;VALUE=DURATION:PT1H
X-Robots-Tag:noindex
X-PUBLISHED-TTL:PT1H
BEGIN:VTIMEZONE
TZID:Europe/Zurich
BEGIN:DAYLIGHT
TZOFFSETFROM:+0100
TZOFFSETTO:+0200
TZNAME:CEST
DTSTART:20240331T010000
END:DAYLIGHT
BEGIN:STANDARD
TZOFFSETFROM:+0200
TZOFFSETTO:+0100
TZNAME:CET
DTSTART:20241027T010000
END:STANDARD
BEGIN:DAYLIGHT
TZOFFSETFROM:+0100
TZOFFSETTO:+0200
TZNAME:CEST
DTSTART:20250330T010000
END:DAYLIGHT
BEGIN:STANDARD
TZOFFSETFROM:+0200
TZOFFSETTO:+0100
TZNAME:CET
DTSTART:20251026T010000
END:STANDARD
BEGIN:DAYLIGHT
TZOFFSETFROM:+0100
TZOFFSETTO:+0200
TZNAME:CEST
DTSTART:20260329T010000
END:DAYLIGHT
BEGIN:STANDARD
TZOFFSETFROM:+0200
TZOFFSETTO:+0100
TZNAME:CET
DTSTART:20261025T010000
END:STANDARD
END:VTIMEZONE
BEGIN:VEVENT
DTSTART;VALUE=DATE:20251201
DTEND;VALUE=DATE:20260101
DTSTAMP:20260421T142547
CREATED:20250412T161147Z
LAST-MODIFIED:20251221T152846Z
UID:10000071-1764547200-1767225599@pcm-online.ch
SUMMARY:Bilder im Schaukasten von Marcus Gsell
DESCRIPTION:
URL:https://pcm-online.ch/event/bilder-im-schaukasten-von-marcus-gsell-2/
LOCATION:PCM Schaukasten\, Bahnhofstrasse 20\, Widnau\, SG\, 9443\, Schweiz
CATEGORIES:Schaukasten
ATTACH;FMTTYPE=image/jpeg:https://pcm-online.ch/wp-content/uploads/2025-12_Marcus_Gsell_IMG-20251201-WA0002.jpg
END:VEVENT
BEGIN:VEVENT
DTSTART;TZID=Europe/Zurich:20251211T193000
DTEND;TZID=Europe/Zurich:20251211T213000
DTSTAMP:20260421T142547
CREATED:20250412T212926Z
LAST-MODIFIED:20250412T212926Z
UID:10000083-1765481400-1765488600@pcm-online.ch
SUMMARY:Klausabend mit Zeigen und Besprechen der Bilder der Fotorallye vom 12. Juni in Lindau
DESCRIPTION:Am Klausabend werden wir nebst gemütlichem Beisammensein auch einen Rückblick auf die Fotorallye vom 12. Juni in Lindau halten. Dabei werden wir von den Teilnehmern je einen Bildersatz zu allen 6 Motiven der Fotorallye sehen und besprechen.
URL:https://pcm-online.ch/event/klausabend-mit-zeigen-und-besprechen-der-bilder-der-fotorallye-vom-12-juni-in-lindau/
LOCATION:Restaurant Rosengarten\, Unterdorfstrasse 79\, Widnau\, SG\, 9443\, Schweiz
CATEGORIES:Clubabend
ATTACH;FMTTYPE=image/jpeg:https://pcm-online.ch/wp-content/uploads/S-CHF__20_00_2024_St_Nikolaus_PP_AV_40x40_4800.jpg
END:VEVENT
END:VCALENDAR