BEGIN:VCALENDAR
VERSION:2.0
PRODID:-//Photoclub Mittelrheintal - ECPv6.15.20//NONSGML v1.0//EN
CALSCALE:GREGORIAN
METHOD:PUBLISH
X-WR-CALNAME:Photoclub Mittelrheintal
X-ORIGINAL-URL:https://pcm-online.ch
X-WR-CALDESC:Veranstaltungen für Photoclub Mittelrheintal
REFRESH-INTERVAL;VALUE=DURATION:PT1H
X-Robots-Tag:noindex
X-PUBLISHED-TTL:PT1H
BEGIN:VTIMEZONE
TZID:Europe/Zurich
BEGIN:DAYLIGHT
TZOFFSETFROM:+0100
TZOFFSETTO:+0200
TZNAME:CEST
DTSTART:20250330T010000
END:DAYLIGHT
BEGIN:STANDARD
TZOFFSETFROM:+0200
TZOFFSETTO:+0100
TZNAME:CET
DTSTART:20251026T010000
END:STANDARD
BEGIN:DAYLIGHT
TZOFFSETFROM:+0100
TZOFFSETTO:+0200
TZNAME:CEST
DTSTART:20260329T010000
END:DAYLIGHT
BEGIN:STANDARD
TZOFFSETFROM:+0200
TZOFFSETTO:+0100
TZNAME:CET
DTSTART:20261025T010000
END:STANDARD
BEGIN:DAYLIGHT
TZOFFSETFROM:+0100
TZOFFSETTO:+0200
TZNAME:CEST
DTSTART:20270328T010000
END:DAYLIGHT
BEGIN:STANDARD
TZOFFSETFROM:+0200
TZOFFSETTO:+0100
TZNAME:CET
DTSTART:20271031T010000
END:STANDARD
END:VTIMEZONE
BEGIN:VEVENT
DTSTART;VALUE=DATE:20260101
DTEND;VALUE=DATE:20260201
DTSTAMP:20260419T231712
CREATED:20260101T170011Z
LAST-MODIFIED:20260306T082903Z
UID:10000072-1767225600-1769903999@pcm-online.ch
SUMMARY:Bilder im Schaukasten von Robert Hangartner
DESCRIPTION:
URL:https://pcm-online.ch/event/bilder-im-schaukasten-von-robert-hangartner-2/
LOCATION:PCM Schaukasten\, Bahnhofstrasse 20\, Widnau\, SG\, 9443\, Schweiz
CATEGORIES:Schaukasten
ATTACH;FMTTYPE=image/jpeg:https://pcm-online.ch/wp-content/uploads/1000054276.jpg
END:VEVENT
BEGIN:VEVENT
DTSTART;TZID=Europe/Zurich:20260108T193000
DTEND;TZID=Europe/Zurich:20260108T213000
DTSTAMP:20260419T231712
CREATED:20251221T140759Z
LAST-MODIFIED:20260306T083134Z
UID:10000084-1767900600-1767907800@pcm-online.ch
SUMMARY:Externer Vortrag des Fotografen René Güttinger
DESCRIPTION:Am ersten Clubabend im 2026 haben wir Gelegenheit\, von René Güttinger\, einem Biologen mit Fachgebiet Fledermäuse und gleichzeitig ein excellenter Fotograf einen Vortrag über sein Wirken zu sehen. \nÜber René Güttinger erfahrt Ihr mehr Details auf diesem Link: https://www.rgblick.ch/aktuell/schnappschuss.php \nDazu sind alle Clubmitglieder und Interessenten herzlich eingeladen. Wer in seinem Umfeld Personen kennt\, welche interessiert sind\, soll diese ebenfalls zur Teilnahme animieren. \nAuf eine zahlreiche Teilnahme freut sich \nder Vorstand \n 
URL:https://pcm-online.ch/event/externer-vortrag-des-fotografen-rene-guettinger/
LOCATION:Restaurant Rosengarten\, Unterdorfstrasse 79\, Widnau\, SG\, 9443\, Schweiz
CATEGORIES:Clubabend
ATTACH;FMTTYPE=image/jpeg:https://pcm-online.ch/wp-content/uploads/FledermausRG.jpg
END:VEVENT
END:VCALENDAR