BEGIN:VCALENDAR
VERSION:2.0
PRODID:-//Photoclub Mittelrheintal - ECPv6.15.20//NONSGML v1.0//EN
CALSCALE:GREGORIAN
METHOD:PUBLISH
X-WR-CALNAME:Photoclub Mittelrheintal
X-ORIGINAL-URL:https://pcm-online.ch
X-WR-CALDESC:Veranstaltungen für Photoclub Mittelrheintal
REFRESH-INTERVAL;VALUE=DURATION:PT1H
X-Robots-Tag:noindex
X-PUBLISHED-TTL:PT1H
BEGIN:VTIMEZONE
TZID:Europe/Zurich
BEGIN:DAYLIGHT
TZOFFSETFROM:+0100
TZOFFSETTO:+0200
TZNAME:CEST
DTSTART:20250330T010000
END:DAYLIGHT
BEGIN:STANDARD
TZOFFSETFROM:+0200
TZOFFSETTO:+0100
TZNAME:CET
DTSTART:20251026T010000
END:STANDARD
BEGIN:DAYLIGHT
TZOFFSETFROM:+0100
TZOFFSETTO:+0200
TZNAME:CEST
DTSTART:20260329T010000
END:DAYLIGHT
BEGIN:STANDARD
TZOFFSETFROM:+0200
TZOFFSETTO:+0100
TZNAME:CET
DTSTART:20261025T010000
END:STANDARD
BEGIN:DAYLIGHT
TZOFFSETFROM:+0100
TZOFFSETTO:+0200
TZNAME:CEST
DTSTART:20270328T010000
END:DAYLIGHT
BEGIN:STANDARD
TZOFFSETFROM:+0200
TZOFFSETTO:+0100
TZNAME:CET
DTSTART:20271031T010000
END:STANDARD
END:VTIMEZONE
BEGIN:VEVENT
DTSTART;VALUE=DATE:20260401
DTEND;VALUE=DATE:20260501
DTSTAMP:20260421T124926
CREATED:20250412T163038Z
LAST-MODIFIED:20260412T072517Z
UID:10000075-1775001600-1777593599@pcm-online.ch
SUMMARY:Bilder im Schaukasten von Guido Cavigelli
DESCRIPTION:
URL:https://pcm-online.ch/event/bilder-im-schaukasten-von-guido-cavigelli-2/
LOCATION:PCM Schaukasten\, Bahnhofstrasse 20\, Widnau\, SG\, 9443\, Schweiz
CATEGORIES:Schaukasten
ATTACH;FMTTYPE=image/jpeg:https://pcm-online.ch/wp-content/uploads/20260411_151522-scaled.jpg
END:VEVENT
BEGIN:VEVENT
DTSTART;TZID=Europe/Zurich:20260416T193000
DTEND;TZID=Europe/Zurich:20260416T213000
DTSTAMP:20260421T124926
CREATED:20260206T130450Z
LAST-MODIFIED:20260408T155347Z
UID:10000088-1776367800-1776375000@pcm-online.ch
SUMMARY:Clubmitglieder bringen Bilder - allenfalls Vorträge mit
DESCRIPTION:Liebe Clubmitglieder und Interessenten \nAm Donnerstag\, 16. April 2026 ab 19.30 Uhr treffen wir uns im Clublokal im Restaurant Rosengarten an der Unterdorfstrasse 79 in Widnau zum nächsten Clubabend. \nJeder\, der dazu Lust und Zeit hat\, kann ein Bild zeigen\, das ihm etwas bedeutet\, einen Vortrag zeigen\, einen selbst gemachten Film mitbringen\, oder sonst aus seinem Leben berichten. Die gezeigten Sachen werden nicht bewertet\, es geht also nicht um einen Wettbewerb. Uns interessiert\, was euch bewegt\, welche Hobbies ihr sonst noch habt oder was euch an der Fotografie speziell begeistert. \nDamit wir den Abend planen können\, bitte ich um eine Rückmeldung von allen\, welche etwas zeigen wollen\, wieviel Zeit ihr dafür benötigt\, auch wenn es „nur 1 Minute ist“. \nFür Eure Rückmeldung bis spätestens \nDienstag\, 14. April 2026 um 21.00 Uhr \ndanke ich und freue mich auf eine zahlreiche Beteiligung. \n„Gut Licht“ wünscht \nEuer Präsident\, Fredy \n  \nGrund für die Wahl des Datums: Der 2. Donnerstag im Monat\, 09. April ist zu nahe an den Osterfeiertagen und der 23. April 2026 wäre zu nahe am Mai-Termin\, was auch nicht passend ist. Darum weichen wir ausnahmsweise vom üblichen Schema ab.
URL:https://pcm-online.ch/event/clubmitglieder-bringen-bilder-allenfalls-vortraege-mit/
CATEGORIES:Clubabend
ATTACH;FMTTYPE=image/jpeg:https://pcm-online.ch/wp-content/uploads/Carmelo-scaled.jpg
END:VEVENT
END:VCALENDAR