BEGIN:VCALENDAR
VERSION:2.0
PRODID:-//Photoclub Mittelrheintal - ECPv6.15.20//NONSGML v1.0//EN
CALSCALE:GREGORIAN
METHOD:PUBLISH
X-ORIGINAL-URL:https://pcm-online.ch
X-WR-CALDESC:Veranstaltungen für Photoclub Mittelrheintal
REFRESH-INTERVAL;VALUE=DURATION:PT1H
X-Robots-Tag:noindex
X-PUBLISHED-TTL:PT1H
BEGIN:VTIMEZONE
TZID:Europe/Zurich
BEGIN:DAYLIGHT
TZOFFSETFROM:+0100
TZOFFSETTO:+0200
TZNAME:CEST
DTSTART:20250330T010000
END:DAYLIGHT
BEGIN:STANDARD
TZOFFSETFROM:+0200
TZOFFSETTO:+0100
TZNAME:CET
DTSTART:20251026T010000
END:STANDARD
BEGIN:DAYLIGHT
TZOFFSETFROM:+0100
TZOFFSETTO:+0200
TZNAME:CEST
DTSTART:20260329T010000
END:DAYLIGHT
BEGIN:STANDARD
TZOFFSETFROM:+0200
TZOFFSETTO:+0100
TZNAME:CET
DTSTART:20261025T010000
END:STANDARD
BEGIN:DAYLIGHT
TZOFFSETFROM:+0100
TZOFFSETTO:+0200
TZNAME:CEST
DTSTART:20270328T010000
END:DAYLIGHT
BEGIN:STANDARD
TZOFFSETFROM:+0200
TZOFFSETTO:+0100
TZNAME:CET
DTSTART:20271031T010000
END:STANDARD
END:VTIMEZONE
BEGIN:VEVENT
DTSTART;VALUE=DATE:20260501
DTEND;VALUE=DATE:20260601
DTSTAMP:20260420T212445
CREATED:20260414T084252Z
LAST-MODIFIED:20260414T084252Z
UID:10000094-1777593600-1780271999@pcm-online.ch
SUMMARY:Bilder im Schaukasten von Markus Zanon
DESCRIPTION:
URL:https://pcm-online.ch/event/bilder-im-schaukasten-von-markus-zanon-2/
LOCATION:PCM Schaukasten\, Bahnhofstrasse 20\, Widnau\, SG\, 9443\, Schweiz
CATEGORIES:Schaukasten
END:VEVENT
BEGIN:VEVENT
DTSTART;TZID=Europe/Zurich:20260507T193000
DTEND;TZID=Europe/Zurich:20260507T213000
DTSTAMP:20260420T212445
CREATED:20260206T131806Z
LAST-MODIFIED:20260415T104249Z
UID:10000089-1778182200-1778189400@pcm-online.ch
SUMMARY:Clubmeisterschaft 2026 - Teil 1: themenfrei
DESCRIPTION:Jedes Aktivmitglied darf ein beliebiges Bild seiner Wahl zur Teilnahme an diesem Wettbewerb einreichen. \nWegen der Auffahrt am 14. Mai findet der Clubabend ausnahmsweise am 1. Donnerstag im Monat statt.
URL:https://pcm-online.ch/event/clubmeisterschaft-2026-teil-1-themenfrei/
LOCATION:Restaurant Rosengarten\, Unterdorfstrasse 79\, Widnau\, SG\, 9443\, Schweiz
CATEGORIES:Clubabend
ATTACH;FMTTYPE=image/jpeg:https://pcm-online.ch/wp-content/uploads/382A6164-1-scaled.jpg
END:VEVENT
END:VCALENDAR